BEGIN:VCALENDAR
VERSION:2.0
PRODID:-//Christine Baudin Régnier - Vénusté Créations - ECPv6.15.17.1//NONSGML v1.0//EN
CALSCALE:GREGORIAN
METHOD:PUBLISH
X-WR-CALNAME:Christine Baudin Régnier - Vénusté Créations
X-ORIGINAL-URL:https://christineregnier.com
X-WR-CALDESC:Évènements pour Christine Baudin Régnier - Vénusté Créations
REFRESH-INTERVAL;VALUE=DURATION:PT1H
X-Robots-Tag:noindex
X-PUBLISHED-TTL:PT1H
BEGIN:VTIMEZONE
TZID:Europe/Paris
BEGIN:DAYLIGHT
TZOFFSETFROM:+0100
TZOFFSETTO:+0200
TZNAME:CEST
DTSTART:20240331T010000
END:DAYLIGHT
BEGIN:STANDARD
TZOFFSETFROM:+0200
TZOFFSETTO:+0100
TZNAME:CET
DTSTART:20241027T010000
END:STANDARD
BEGIN:DAYLIGHT
TZOFFSETFROM:+0100
TZOFFSETTO:+0200
TZNAME:CEST
DTSTART:20250330T010000
END:DAYLIGHT
BEGIN:STANDARD
TZOFFSETFROM:+0200
TZOFFSETTO:+0100
TZNAME:CET
DTSTART:20251026T010000
END:STANDARD
BEGIN:DAYLIGHT
TZOFFSETFROM:+0100
TZOFFSETTO:+0200
TZNAME:CEST
DTSTART:20260329T010000
END:DAYLIGHT
BEGIN:STANDARD
TZOFFSETFROM:+0200
TZOFFSETTO:+0100
TZNAME:CET
DTSTART:20261025T010000
END:STANDARD
END:VTIMEZONE
BEGIN:VEVENT
DTSTART;TZID=Europe/Paris:20251209T190000
DTEND;TZID=Europe/Paris:20251209T200000
DTSTAMP:20260419T160242
CREATED:20251120T110721Z
LAST-MODIFIED:20251128T105633Z
UID:3159-1765306800-1765310400@christineregnier.com
SUMMARY:Présentation d'un nouvel outil
DESCRIPTION:[vc_row gap= »35″][vc_column width= »2/3″][vc_column_text css= » »]Chers amis indépendants\, \nAvec Sylvain\, son concepteur\, je vous présente dans un contexte interactif (et très sympa) un tout nouvel outil\, créé spécialement pour les indépendants qui gèrent un agenda\, des réservations\, des séances\, avec ou sans paiement en ligne\, quel que soit le domaine d’activité.\nUn temps convivial pour découvrir ce logiciel complet\, simple et accessible.\nSylvain vous raconte la petite histoire de ce projet (fruit de 20 ans d’expérience) et répond à toutes vos questions. \nÀ qui s’adresse cette proposition ?\nSi vous n’avez pas ou plus de site Internet\, ou si vous avez un site sans gestion des RV et sans paiement en ligne\, si vous voulez libérer du temps d’administration au bénéfice du temps consacré au soin\, ceci est pour vous !!! \nPas besoin d’être un as du web ! Tout en 1 !\nUne interface maniable\, flexible et simple vous permet une présentation personnalisée de votre parcours\, de votre activité\, de vos services et méthodes\, la prise de RV\, la gestion de vos patients/clients\, la facturation\, le paiement en ligne (option) et bien d’autres choses encore…\nUn vrai assistant qui fait tout pour vous (sauf le café) ! \nFaut-il ajouter qu’en cette aire où l’IA délocalisée semble reine\, cet outil en ligne est français\, et que son concepteur est bien là\, en chair et en os et accessible au-delà de l’écran pour résoudre les éventuelles difficultés ou situations particulières\, dans une démarche de développement humain\, large et professionnel ? \nPour ma part\, conquise par la congruence de cet outil\, je m’occupe de sa diffusion et j’accompagne sa prise en main selon les besoins.\nPar mon intermédiaire\, vous bénéficiez d’avantages s’il vous intéresse. \nOn vous dit tout dans ce temps dédié.[/vc_column_text][vc_btn title= »S’inscrire » style= »gradient-custom » gradient_custom_color_1= »#014a54″ gradient_custom_color_2= »#f5912f » align= »left » css= » » link= »url:https%3A%2F%2Fus02web.zoom.us%2Fmeeting%2Fregister%2FG3_nO5iXS9-WR-z79mssvg|target:_blank »][vc_column_text css= » »] \n! Les inscriptions sont clôturées à 18h45 \n[/vc_column_text][/vc_column][vc_column width= »1/3″][vc_custom_heading text= »Pour qui ? » font_container= »tag:h4|text_align:center|color:%23F5912F » use_theme_fonts= »yes » css= » »][vc_single_image image= »3175″ img_size= »large » alignment= »center » style= »vc_box_rounded » onclick= »link_image » css= » »][/vc_column][/vc_row]
URL:https://christineregnier.com/evenement/presentation-dun-nouvel-outil/
LOCATION:Zoom
CATEGORIES:Information en ligne,Solutions professionnelles
ATTACH;FMTTYPE=image/jpeg:https://christineregnier.com/wp-content/uploads/2025/11/Image-Zoom-presentation-logiciel.jpg
END:VEVENT
END:VCALENDAR